Package: cleaver Version: 1.48.0 Command: /home/biocbuild/bbs-3.22-bioc/R/bin/R CMD check --install=check:cleaver.install-out.txt --library=/home/biocbuild/bbs-3.22-bioc/R/site-library --timings cleaver_1.48.0.tar.gz StartedAt: 2025-11-18 01:55:19 -0500 (Tue, 18 Nov 2025) EndedAt: 2025-11-18 01:58:09 -0500 (Tue, 18 Nov 2025) EllapsedTime: 170.2 seconds RetCode: 0 Status: OK CheckDir: cleaver.Rcheck Warnings: 0