Package: cleaver Version: 1.48.0 Command: /Library/Frameworks/R.framework/Resources/bin/R CMD build --keep-empty-dirs --no-resave-data cleaver StartedAt: 2025-11-03 16:29:15 -0500 (Mon, 03 Nov 2025) EndedAt: 2025-11-03 16:29:45 -0500 (Mon, 03 Nov 2025) EllapsedTime: 29.6 seconds RetCode: 0 Status: OK PackageFile: cleaver_1.48.0.tar.gz PackageFileSize: 344.6 KiB