Package: cleaver Version: 1.48.0 Command: rm -rf cleaver.buildbin-libdir && mkdir cleaver.buildbin-libdir && /Users/biocbuild/BBS/utils/build-universal.sh cleaver_1.48.0.tar.gz /Library/Frameworks/R.framework/Resources/bin/R cleaver.buildbin-libdir StartedAt: 2025-11-04 01:33:01 -0500 (Tue, 04 Nov 2025) EndedAt: 2025-11-04 01:33:15 -0500 (Tue, 04 Nov 2025) EllapsedTime: 13.9 seconds RetCode: 0 Status: OK PackageFile: cleaver_1.48.0.tgz PackageFileSize: 380.9 KiB