Package: cleaver Version: 1.46.0 Command: /home/biocbuild/R/R/bin/R CMD INSTALL cleaver StartedAt: 2025-10-13 20:37:22 -0000 (Mon, 13 Oct 2025) EndedAt: 2025-10-13 20:37:35 -0000 (Mon, 13 Oct 2025) EllapsedTime: 13.0 seconds RetCode: 0 Status: OK