Package: cleaver Version: 1.46.0 Command: /home/biocbuild/R/R/bin/R CMD build --keep-empty-dirs --no-resave-data cleaver StartedAt: 2025-10-13 23:38:39 -0000 (Mon, 13 Oct 2025) EndedAt: 2025-10-13 23:39:14 -0000 (Mon, 13 Oct 2025) EllapsedTime: 34.6 seconds RetCode: 0 Status: OK PackageFile: cleaver_1.46.0.tar.gz PackageFileSize: 406 KiB