Package: cleanUpdTSeq Version: 1.48.0 Command: /home/biocbuild/R/R/bin/R CMD build --keep-empty-dirs --no-resave-data cleanUpdTSeq StartedAt: 2025-11-14 00:33:57 -0000 (Fri, 14 Nov 2025) EndedAt: 2025-11-14 00:41:30 -0000 (Fri, 14 Nov 2025) EllapsedTime: 452.7 seconds RetCode: 0 Status: OK PackageFile: cleanUpdTSeq_1.48.0.tar.gz PackageFileSize: 4.034 MiB