Package: cleanUpdTSeq Version: 1.46.0 Command: /Library/Frameworks/R.framework/Resources/bin/R CMD INSTALL cleanUpdTSeq StartedAt: 2025-10-02 16:00:33 -0400 (Thu, 02 Oct 2025) EndedAt: 2025-10-02 16:02:49 -0400 (Thu, 02 Oct 2025) EllapsedTime: 135.7 seconds RetCode: 0 Status: OK