Package: cleanUpdTSeq Version: 1.46.0 Command: /Library/Frameworks/R.framework/Resources/bin/R CMD build --keep-empty-dirs --no-resave-data cleanUpdTSeq StartedAt: 2025-10-02 17:55:22 -0400 (Thu, 02 Oct 2025) EndedAt: 2025-10-02 17:58:20 -0400 (Thu, 02 Oct 2025) EllapsedTime: 178.2 seconds RetCode: 0 Status: OK PackageFile: cleanUpdTSeq_1.46.0.tar.gz PackageFileSize: 4.008 MiB