Package: cleanUpdTSeq Version: 1.46.0 Command: /home/biocbuild/R/R/bin/R CMD build --keep-empty-dirs --no-resave-data cleanUpdTSeq StartedAt: 2025-09-25 23:45:36 -0000 (Thu, 25 Sep 2025) EndedAt: 2025-09-25 23:47:58 -0000 (Thu, 25 Sep 2025) EllapsedTime: 141.3 seconds RetCode: 0 Status: OK PackageFile: cleanUpdTSeq_1.46.0.tar.gz PackageFileSize: 4.034 MiB