Package: cisPath Version: 1.48.0 Command: rm -rf cisPath.buildbin-libdir && mkdir cisPath.buildbin-libdir && E:\biocbuild\bbs-3.21-bioc\R\bin\R.exe CMD INSTALL --build --library=cisPath.buildbin-libdir cisPath_1.48.0.tar.gz StartedAt: 2025-08-15 08:59:38 -0400 (Fri, 15 Aug 2025) EndedAt: 2025-08-15 09:00:03 -0400 (Fri, 15 Aug 2025) EllapsedTime: 25.7 seconds RetCode: 0 Status: OK PackageFile: cisPath_1.48.0.zip PackageFileSize: 1.265 MiB