Package: cisPath Version: 1.50.0 Command: /home/biocbuild/bbs-3.22-bioc/R/bin/R CMD INSTALL cisPath StartedAt: 2025-11-11 15:06:31 -0500 (Tue, 11 Nov 2025) EndedAt: 2025-11-11 15:06:42 -0500 (Tue, 11 Nov 2025) EllapsedTime: 11.6 seconds RetCode: 1 Status: ERROR