Package: cisPath Version: 1.48.0 Command: /Library/Frameworks/R.framework/Resources/bin/R CMD INSTALL cisPath StartedAt: 2025-10-02 15:04:53 -0400 (Thu, 02 Oct 2025) EndedAt: 2025-10-02 15:05:21 -0400 (Thu, 02 Oct 2025) EllapsedTime: 27.7 seconds RetCode: 0 Status: OK