Package: cisPath Version: 1.48.0 Command: /Library/Frameworks/R.framework/Resources/bin/R CMD build --keep-empty-dirs --no-resave-data cisPath StartedAt: 2025-10-02 17:54:57 -0400 (Thu, 02 Oct 2025) EndedAt: 2025-10-02 17:55:40 -0400 (Thu, 02 Oct 2025) EllapsedTime: 42.6 seconds RetCode: 0 Status: OK PackageFile: cisPath_1.48.0.tar.gz PackageFileSize: 1.032 MiB