Package: cisPath Version: 1.48.0 Command: rm -rf cisPath.buildbin-libdir && mkdir cisPath.buildbin-libdir && /Users/biocbuild/BBS/utils/build-universal.sh cisPath_1.48.0.tar.gz /Library/Frameworks/R.framework/Resources/bin/R cisPath.buildbin-libdir StartedAt: 2025-10-03 12:52:35 -0400 (Fri, 03 Oct 2025) EndedAt: 2025-10-03 12:53:04 -0400 (Fri, 03 Oct 2025) EllapsedTime: 29.0 seconds RetCode: 0 Status: OK PackageFile: cisPath_1.48.0.tgz PackageFileSize: 1.091 MiB