Package: circRNAprofiler Version: 1.22.1 Command: /home/biocbuild/R/R/bin/R CMD INSTALL circRNAprofiler StartedAt: 2025-10-13 20:57:02 -0000 (Mon, 13 Oct 2025) EndedAt: 2025-10-13 20:58:17 -0000 (Mon, 13 Oct 2025) EllapsedTime: 75.6 seconds RetCode: 0 Status: OK