Package: circRNAprofiler Version: 1.22.1 Command: /home/biocbuild/R/R/bin/R CMD build --keep-empty-dirs --no-resave-data circRNAprofiler StartedAt: 2025-10-13 23:37:14 -0000 (Mon, 13 Oct 2025) EndedAt: 2025-10-13 23:39:27 -0000 (Mon, 13 Oct 2025) EllapsedTime: 132.6 seconds RetCode: 0 Status: OK PackageFile: circRNAprofiler_1.22.1.tar.gz PackageFileSize: 3.599 MiB