Package: cigarillo Version: 1.0.0 Command: /home/biocbuild/bbs-3.22-bioc/R/bin/R CMD INSTALL cigarillo StartedAt: 2025-11-14 15:25:32 -0500 (Fri, 14 Nov 2025) EndedAt: 2025-11-14 15:25:43 -0500 (Fri, 14 Nov 2025) EllapsedTime: 10.9 seconds RetCode: 0 Status: OK