Package: cicero Version: 1.28.0 Command: /home/biocbuild/bbs-3.22-bioc/R/bin/R CMD INSTALL cicero StartedAt: 2025-11-16 15:48:40 -0500 (Sun, 16 Nov 2025) EndedAt: 2025-11-16 15:49:52 -0500 (Sun, 16 Nov 2025) EllapsedTime: 72.5 seconds RetCode: 0 Status: OK