Package: cicero Version: 1.28.0 Command: /home/biocbuild/bbs-3.22-bioc/R/bin/R CMD build --keep-empty-dirs --no-resave-data --md5 cicero StartedAt: 2025-11-14 16:53:08 -0500 (Fri, 14 Nov 2025) EndedAt: 2025-11-14 16:55:04 -0500 (Fri, 14 Nov 2025) EllapsedTime: 116.1 seconds RetCode: 0 Status: OK PackageFile: cicero_1.28.0.tar.gz PackageFileSize: 1.186 MiB