Package: chromstaR Version: 1.34.0 Command: /home/biocbuild/R/R/bin/R CMD INSTALL chromstaR StartedAt: 2025-10-06 20:45:34 -0000 (Mon, 06 Oct 2025) EndedAt: 2025-10-06 20:45:37 -0000 (Mon, 06 Oct 2025) EllapsedTime: 2.9 seconds RetCode: 1 Status: ERROR