Package: chromstaR Version: 1.34.0 Command: /home/biocbuild/R/R/bin/R CMD build --keep-empty-dirs --no-resave-data chromstaR StartedAt: 2025-10-06 23:37:24 -0000 (Mon, 06 Oct 2025) EndedAt: 2025-10-06 23:37:27 -0000 (Mon, 06 Oct 2025) EllapsedTime: 3.0 seconds RetCode: 1 Status: ERROR PackageFile: None PackageFileSize: NA