Package: chromVAR Version: 1.32.0 Command: /home/biocbuild/bbs-3.22-bioc/R/bin/R CMD build --keep-empty-dirs --no-resave-data --md5 chromVAR StartedAt: 2025-11-11 16:54:40 -0500 (Tue, 11 Nov 2025) EndedAt: 2025-11-11 16:57:08 -0500 (Tue, 11 Nov 2025) EllapsedTime: 148.1 seconds RetCode: 0 Status: OK PackageFile: chromVAR_1.32.0.tar.gz PackageFileSize: 486.9 KiB