Package: chromVAR Version: 1.32.0 Command: /Library/Frameworks/R.framework/Resources/bin/R CMD INSTALL chromVAR StartedAt: 2025-11-10 15:27:38 -0500 (Mon, 10 Nov 2025) EndedAt: 2025-11-10 15:28:02 -0500 (Mon, 10 Nov 2025) EllapsedTime: 24.1 seconds RetCode: 0 Status: OK