Package: chromVAR Version: 1.32.0 Command: /Library/Frameworks/R.framework/Resources/bin/R CMD build --keep-empty-dirs --no-resave-data chromVAR StartedAt: 2025-11-10 15:55:59 -0500 (Mon, 10 Nov 2025) EndedAt: 2025-11-10 15:56:57 -0500 (Mon, 10 Nov 2025) EllapsedTime: 57.6 seconds RetCode: 0 Status: OK PackageFile: chromVAR_1.32.0.tar.gz PackageFileSize: 503 KiB