Package: chromPlot Version: 1.38.0 Command: /home/biocbuild/R/R/bin/R CMD INSTALL chromPlot StartedAt: 2025-11-13 22:08:42 -0000 (Thu, 13 Nov 2025) EndedAt: 2025-11-13 22:09:04 -0000 (Thu, 13 Nov 2025) EllapsedTime: 21.9 seconds RetCode: 0 Status: OK