Package: chromPlot Version: 1.38.0 Command: /home/biocbuild/R/R/bin/R CMD build --keep-empty-dirs --no-resave-data chromPlot StartedAt: 2025-11-14 00:32:19 -0000 (Fri, 14 Nov 2025) EndedAt: 2025-11-14 00:33:16 -0000 (Fri, 14 Nov 2025) EllapsedTime: 57.0 seconds RetCode: 0 Status: OK PackageFile: chromPlot_1.38.0.tar.gz PackageFileSize: 1.515 MiB