Package: chromDraw Version: 2.38.0 Command: /home/biocbuild/bbs-3.21-bioc/R/bin/R CMD INSTALL chromDraw StartedAt: 2025-10-15 15:22:04 -0400 (Wed, 15 Oct 2025) EndedAt: 2025-10-15 15:22:46 -0400 (Wed, 15 Oct 2025) EllapsedTime: 41.6 seconds RetCode: 0 Status: OK