Package: chromDraw Version: 2.38.0 Command: /home/biocbuild/R/R/bin/R CMD INSTALL chromDraw StartedAt: 2025-10-02 20:35:28 -0000 (Thu, 02 Oct 2025) EndedAt: 2025-10-02 20:36:34 -0000 (Thu, 02 Oct 2025) EllapsedTime: 65.2 seconds RetCode: 0 Status: OK