Package: chromDraw Version: 2.38.0 Command: /Library/Frameworks/R.framework/Resources/bin/R CMD INSTALL chromDraw StartedAt: 2025-10-13 16:28:26 -0400 (Mon, 13 Oct 2025) EndedAt: 2025-10-13 16:29:12 -0400 (Mon, 13 Oct 2025) EllapsedTime: 46.0 seconds RetCode: 0 Status: OK