Package: chromDraw Version: 2.40.0 Maintainer: Jan Janecka MaintainerEmail: jan.janecka at ceitec.muni.cz git_url: https://git.bioconductor.org/packages/chromDraw git_branch: RELEASE_3_22 git_last_commit: 424540b git_last_commit_date: 2025-10-29 10:23:24 -0400 (Wed, 29 Oct 2025)