Package: chopsticks Version: 1.74.0 Command: /home/biocbuild/R/R/bin/R CMD INSTALL chopsticks StartedAt: 2025-10-13 20:16:00 -0000 (Mon, 13 Oct 2025) EndedAt: 2025-10-13 20:16:34 -0000 (Mon, 13 Oct 2025) EllapsedTime: 34.6 seconds RetCode: 0 Status: OK