Package: chopsticks Version: 1.74.0 Command: /home/biocbuild/R/R/bin/R CMD build --keep-empty-dirs --no-resave-data chopsticks StartedAt: 2025-10-13 23:35:30 -0000 (Mon, 13 Oct 2025) EndedAt: 2025-10-13 23:36:05 -0000 (Mon, 13 Oct 2025) EllapsedTime: 35.0 seconds RetCode: 0 Status: OK PackageFile: chopsticks_1.74.0.tar.gz PackageFileSize: 6.636 MiB