Package: chopsticks Version: 1.76.0 Command: /Library/Frameworks/R.framework/Resources/bin/R CMD INSTALL chopsticks StartedAt: 2025-11-03 15:03:03 -0500 (Mon, 03 Nov 2025) EndedAt: 2025-11-03 15:03:09 -0500 (Mon, 03 Nov 2025) EllapsedTime: 5.7 seconds RetCode: 1 Status: ERROR