Package: chipseq Version: 1.60.0 Command: /home/biocbuild/bbs-3.22-bioc/R/bin/R CMD INSTALL chipseq StartedAt: 2025-11-11 15:57:23 -0500 (Tue, 11 Nov 2025) EndedAt: 2025-11-11 15:57:55 -0500 (Tue, 11 Nov 2025) EllapsedTime: 32.0 seconds RetCode: 0 Status: OK