Package: chipseq Version: 1.58.0 Command: /home/biocbuild/bbs-3.21-bioc/R/bin/R CMD INSTALL chipseq StartedAt: 2025-10-08 15:52:51 -0400 (Wed, 08 Oct 2025) EndedAt: 2025-10-08 15:53:21 -0400 (Wed, 08 Oct 2025) EllapsedTime: 29.6 seconds RetCode: 0 Status: OK