Package: chipseq Version: 1.58.0 Command: /home/biocbuild/bbs-3.21-bioc/R/bin/R CMD build --keep-empty-dirs --no-resave-data chipseq StartedAt: 2025-10-08 16:44:27 -0400 (Wed, 08 Oct 2025) EndedAt: 2025-10-08 16:47:51 -0400 (Wed, 08 Oct 2025) EllapsedTime: 204.2 seconds RetCode: 0 Status: OK PackageFile: chipseq_1.58.0.tar.gz PackageFileSize: 2.456 MiB