Package: chipseq Version: 1.58.0 Command: /Library/Frameworks/R.framework/Resources/bin/R CMD INSTALL chipseq StartedAt: 2025-10-09 18:12:23 -0400 (Thu, 09 Oct 2025) EndedAt: 2025-10-09 18:13:00 -0400 (Thu, 09 Oct 2025) EllapsedTime: 36.6 seconds RetCode: 0 Status: OK