Package: chipseq Version: 1.58.0 Command: /Library/Frameworks/R.framework/Resources/bin/R CMD build --keep-empty-dirs --no-resave-data chipseq StartedAt: 2025-10-09 21:17:35 -0400 (Thu, 09 Oct 2025) EndedAt: 2025-10-09 21:21:04 -0400 (Thu, 09 Oct 2025) EllapsedTime: 208.4 seconds RetCode: 0 Status: OK PackageFile: chipseq_1.58.0.tar.gz PackageFileSize: 2.434 MiB