Package: chipseq Version: 1.58.0 Command: rm -rf chipseq.buildbin-libdir && mkdir chipseq.buildbin-libdir && /Users/biocbuild/BBS/utils/build-universal.sh chipseq_1.58.0.tar.gz /Library/Frameworks/R.framework/Resources/bin/R chipseq.buildbin-libdir StartedAt: 2025-10-11 19:27:43 -0400 (Sat, 11 Oct 2025) EndedAt: 2025-10-11 19:28:26 -0400 (Sat, 11 Oct 2025) EllapsedTime: 43.1 seconds RetCode: 0 Status: OK PackageFile: chipseq_1.58.0.tgz PackageFileSize: 2.497 MiB