Package: chipenrich Version: 2.34.0 Command: /home/biocbuild/bbs-3.22-bioc/R/bin/R CMD INSTALL chipenrich StartedAt: 2025-11-11 15:36:33 -0500 (Tue, 11 Nov 2025) EndedAt: 2025-11-11 15:37:15 -0500 (Tue, 11 Nov 2025) EllapsedTime: 42.6 seconds RetCode: 0 Status: OK