Package: chipenrich Version: 2.34.0 Command: /home/biocbuild/bbs-3.22-bioc/R/bin/R CMD build --keep-empty-dirs --no-resave-data --md5 chipenrich StartedAt: 2025-11-11 16:53:05 -0500 (Tue, 11 Nov 2025) EndedAt: 2025-11-11 16:54:40 -0500 (Tue, 11 Nov 2025) EllapsedTime: 94.1 seconds RetCode: 0 Status: OK PackageFile: chipenrich_2.34.0.tar.gz PackageFileSize: 768.6 KiB