Package: chipenrich Version: 2.34.0 Command: /Library/Frameworks/R.framework/Resources/bin/R CMD INSTALL chipenrich StartedAt: 2025-10-31 15:20:18 -0400 (Fri, 31 Oct 2025) EndedAt: 2025-10-31 15:20:36 -0400 (Fri, 31 Oct 2025) EllapsedTime: 18.5 seconds RetCode: 0 Status: OK