Package: chipenrich Version: 2.34.0 Command: /Library/Frameworks/R.framework/Resources/bin/R CMD build --keep-empty-dirs --no-resave-data chipenrich StartedAt: 2025-10-31 15:59:02 -0400 (Fri, 31 Oct 2025) EndedAt: 2025-10-31 15:59:42 -0400 (Fri, 31 Oct 2025) EllapsedTime: 40.5 seconds RetCode: 0 Status: OK PackageFile: chipenrich_2.34.0.tar.gz PackageFileSize: 655.7 KiB