Package: chimeraviz Version: 1.36.0 Command: /home/biocbuild/R/R/bin/R CMD INSTALL chimeraviz StartedAt: 2025-11-13 21:55:29 -0000 (Thu, 13 Nov 2025) EndedAt: 2025-11-13 21:56:44 -0000 (Thu, 13 Nov 2025) EllapsedTime: 75.7 seconds RetCode: 0 Status: OK