Package: chimeraviz Version: 1.36.0 Command: /home/biocbuild/R/R/bin/R CMD build --keep-empty-dirs --no-resave-data chimeraviz StartedAt: 2025-11-14 00:29:26 -0000 (Fri, 14 Nov 2025) EndedAt: 2025-11-14 00:34:21 -0000 (Fri, 14 Nov 2025) EllapsedTime: 295.1 seconds RetCode: 0 Status: OK PackageFile: chimeraviz_1.36.0.tar.gz PackageFileSize: 2.978 MiB