Package: chimeraviz Version: 1.36.0 Command: /home/biocbuild/bbs-3.22-bioc/R/bin/R CMD INSTALL chimeraviz StartedAt: 2025-11-11 15:52:26 -0500 (Tue, 11 Nov 2025) EndedAt: 2025-11-11 15:53:22 -0500 (Tue, 11 Nov 2025) EllapsedTime: 56.3 seconds RetCode: 0 Status: OK