Package: chimeraviz Version: 1.36.0 Command: /home/biocbuild/bbs-3.22-bioc/R/bin/R CMD check --install=check:chimeraviz.install-out.txt --library=/home/biocbuild/bbs-3.22-bioc/R/site-library --timings chimeraviz_1.36.0.tar.gz StartedAt: 2025-11-11 22:08:28 -0500 (Tue, 11 Nov 2025) EndedAt: 2025-11-11 22:21:19 -0500 (Tue, 11 Nov 2025) EllapsedTime: 770.9 seconds RetCode: 0 Status: OK CheckDir: chimeraviz.Rcheck Warnings: 0