Package: chimeraviz Version: 1.34.0 Command: /Library/Frameworks/R.framework/Resources/bin/R CMD INSTALL chimeraviz StartedAt: 2025-10-13 16:24:31 -0400 (Mon, 13 Oct 2025) EndedAt: 2025-10-13 16:26:30 -0400 (Mon, 13 Oct 2025) EllapsedTime: 118.7 seconds RetCode: 0 Status: OK