Package: chimeraviz Version: 1.34.0 Command: /Library/Frameworks/R.framework/Resources/bin/R CMD INSTALL chimeraviz StartedAt: 2025-09-25 17:41:00 -0400 (Thu, 25 Sep 2025) EndedAt: 2025-09-25 17:42:08 -0400 (Thu, 25 Sep 2025) EllapsedTime: 67.3 seconds RetCode: 0 Status: OK