Package: chimeraviz Version: 1.34.0 Command: /Library/Frameworks/R.framework/Resources/bin/R CMD build --keep-empty-dirs --no-resave-data chimeraviz StartedAt: 2025-09-25 21:02:46 -0400 (Thu, 25 Sep 2025) EndedAt: 2025-09-25 21:06:44 -0400 (Thu, 25 Sep 2025) EllapsedTime: 237.5 seconds RetCode: 0 Status: OK PackageFile: chimeraviz_1.34.0.tar.gz PackageFileSize: 4.109 MiB